BEGIN:VCALENDAR
PRODID:-//github.com/rianjs/ical.net//NONSGML ical.net 4.0//EN
VERSION:2.0
BEGIN:VEVENT
DESCRIPTION:
DTEND:20210323T120000
DTSTAMP:20260423T090607Z
DTSTART:20210323T100000
LOCATION:Webex (детали либо в приглашении либо на сайте https://cscomarath
 on.ru)
SEQUENCE:0
SUMMARY:Инструменты для обеспечения высокой доступности\, отказоустойчивос
 ти и резервирования в LAN сети
UID:d1554e47-369c-4bad-bb25-44f8dad0180f
END:VEVENT
END:VCALENDAR
