BEGIN:VCALENDAR
PRODID:-//github.com/rianjs/ical.net//NONSGML ical.net 4.0//EN
VERSION:2.0
BEGIN:VEVENT
DESCRIPTION:
DTEND:20210324T120000
DTSTAMP:20260423T090836Z
DTSTART:20210324T100000
LOCATION:Webex (детали либо в приглашении либо на сайте https://cscomarath
 on.ru)
SEQUENCE:0
SUMMARY:Технический обзор линейки коммутаторов Catalyst 9000 для построени
 я классической LAN сети
UID:a87f7033-b1ec-4be1-bfa1-2e1123585fa8
END:VEVENT
END:VCALENDAR
