BEGIN:VCALENDAR
PRODID:-//github.com/rianjs/ical.net//NONSGML ical.net 4.0//EN
VERSION:2.0
BEGIN:VEVENT
DESCRIPTION:
DTEND:20210326T120000
DTSTAMP:20260423T090653Z
DTSTART:20210326T100000
LOCATION:Webex (детали либо в приглашении либо на сайте https://cscomarath
 on.ru)
SEQUENCE:0
SUMMARY:Сетевые фабрики «сделай сам»: MPLS\, SR\, BGP EVPN и другие полезн
 ые инструменты.
UID:3e0b1f40-40b9-4ac4-ac7d-ce4515360a71
END:VEVENT
END:VCALENDAR
