BEGIN:VCALENDAR
PRODID:-//github.com/rianjs/ical.net//NONSGML ical.net 4.0//EN
VERSION:2.0
BEGIN:VEVENT
DESCRIPTION:
DTSTAMP:20260423T091041Z
DTSTART;VALUE=DATE:20210203
LOCATION:Webex (детали либо в приглашении либо на сайте https://cscomarath
 on.ru)
SEQUENCE:0
SUMMARY:WiFi6 - миф или реальность
UID:6b4561a4-0c8f-4baa-ab3a-a273be7eb5fa
END:VEVENT
END:VCALENDAR
