BEGIN:VCALENDAR
PRODID:-//github.com/rianjs/ical.net//NONSGML ical.net 4.0//EN
VERSION:2.0
BEGIN:VEVENT
DESCRIPTION:
DTSTAMP:20260423T090533Z
DTSTART;VALUE=DATE:20210224
LOCATION:Webex (детали либо в приглашении либо на сайте https://cscomarath
 on.ru)
SEQUENCE:0
SUMMARY:Cisco Catalyst теперь действительно end-to-end. Новая линейка марш
 рутизаторов Catalyst 8000
UID:8caae429-4433-4277-a1c0-f11acf9416f2
END:VEVENT
END:VCALENDAR
