BEGIN:VCALENDAR
PRODID:-//github.com/rianjs/ical.net//NONSGML ical.net 4.0//EN
VERSION:2.0
BEGIN:VEVENT
DESCRIPTION:
DTSTAMP:20260423T090918Z
DTSTART;VALUE=DATE:20210331
LOCATION:Webex (детали либо в приглашении либо на сайте https://cscomarath
 on.ru)
SEQUENCE:0
SUMMARY:Сессия EN за 30 минут. Мал да удал: новые решения Cisco SMB
UID:c16ec8c7-b07d-411e-85fa-f8c0d54f9048
END:VEVENT
END:VCALENDAR
