BEGIN:VCALENDAR
PRODID:-//github.com/rianjs/ical.net//NONSGML ical.net 4.0//EN
VERSION:2.0
BEGIN:VEVENT
DESCRIPTION:
DTSTAMP:20260423T091153Z
DTSTART;VALUE=DATE:20210405
LOCATION:Webex (детали либо в приглашении либо на сайте https://cscomarath
 on.ru)
SEQUENCE:0
SUMMARY:VXLAN/EVPN фабрика - основы
UID:a5cba92b-05ac-43ab-bee0-4a369acb2905
END:VEVENT
END:VCALENDAR
