BEGIN:VCALENDAR
PRODID:-//github.com/rianjs/ical.net//NONSGML ical.net 4.0//EN
VERSION:2.0
BEGIN:VEVENT
DESCRIPTION:
DTSTAMP:20260423T091139Z
DTSTART;VALUE=DATE:20210406
LOCATION:Webex (детали либо в приглашении либо на сайте https://cscomarath
 on.ru)
SEQUENCE:0
SUMMARY:VXLAN/EVPN фабрика – клиенты и внешние сегменты
UID:22537c9e-249e-498a-ad5b-5111bda4243d
END:VEVENT
END:VCALENDAR
