BEGIN:VCALENDAR
PRODID:-//github.com/rianjs/ical.net//NONSGML ical.net 4.0//EN
VERSION:2.0
BEGIN:VEVENT
DESCRIPTION:
DTSTAMP:20260423T090506Z
DTSTART;VALUE=DATE:20210407
LOCATION:Webex (детали либо в приглашении либо на сайте https://cscomarath
 on.ru)
SEQUENCE:0
SUMMARY:VXLAN/EVPN фабрика – распределенные топологии
UID:aab11f76-d6af-417c-a7fa-f707bdbc1d49
END:VEVENT
END:VCALENDAR
