BEGIN:VCALENDAR
PRODID:-//github.com/rianjs/ical.net//NONSGML ical.net 4.0//EN
VERSION:2.0
BEGIN:VEVENT
DESCRIPTION:
DTSTAMP:20260423T091054Z
DTSTART;VALUE=DATE:20210408
LOCATION:Webex (детали либо в приглашении либо на сайте https://cscomarath
 on.ru)
SEQUENCE:0
SUMMARY:VXLAN/EVPN фабрика – интеграция L4-L7 сервисов
UID:2a9be3d7-99c7-4e21-9f4f-8c1854037e1a
END:VEVENT
END:VCALENDAR
