BEGIN:VCALENDAR
PRODID:-//github.com/rianjs/ical.net//NONSGML ical.net 4.0//EN
VERSION:2.0
BEGIN:VEVENT
DESCRIPTION:
DTSTAMP:20260423T101930Z
DTSTART;VALUE=DATE:20210409
LOCATION:Webex (детали либо в приглашении либо на сайте https://cscomarath
 on.ru)
SEQUENCE:0
SUMMARY:VXLAN/EVPN фабрика – эксплуатация и поддержка
UID:efaa1b4e-c545-4239-8efc-7a243753e34a
END:VEVENT
END:VCALENDAR
