BEGIN:VCALENDAR
PRODID:-//github.com/rianjs/ical.net//NONSGML ical.net 4.0//EN
VERSION:2.0
BEGIN:VEVENT
DESCRIPTION:
DTSTAMP:20260423T090615Z
DTSTART;VALUE=DATE:20210419
LOCATION:Webex (детали либо в приглашении либо на сайте https://cscomarath
 on.ru)
SEQUENCE:0
SUMMARY:Основные вопросы\, возникающие при построении межфилиальной WAN се
 ти. И правильные ответы на них.
UID:ddb917e3-5074-42c1-b674-ed882c1e54d9
END:VEVENT
END:VCALENDAR
