BEGIN:VCALENDAR
PRODID:-//github.com/rianjs/ical.net//NONSGML ical.net 4.0//EN
VERSION:2.0
BEGIN:VEVENT
DESCRIPTION:
DTSTAMP:20260423T091004Z
DTSTART;VALUE=DATE:20210420
LOCATION:Webex (детали либо в приглашении либо на сайте https://cscomarath
 on.ru)
SEQUENCE:0
SUMMARY:DMVPN и Performance Routing – как получить от Вашей межфилиальной 
 сети максимум?
UID:b29664a0-d2ea-467f-8306-efc3c2ba8590
END:VEVENT
END:VCALENDAR
