BEGIN:VCALENDAR
PRODID:-//github.com/rianjs/ical.net//NONSGML ical.net 4.0//EN
VERSION:2.0
BEGIN:VEVENT
DESCRIPTION:
DTSTAMP:20260423T090836Z
DTSTART;VALUE=DATE:20210421
LOCATION:Webex (детали либо в приглашении либо на сайте https://cscomarath
 on.ru)
SEQUENCE:0
SUMMARY:Технический обзор современных маршрутизаторов Cisco: ISR\, ASR и… 
 Catalyst.
UID:7287318b-805a-4d5a-9d2c-3245af6aebfc
END:VEVENT
END:VCALENDAR
