BEGIN:VCALENDAR
PRODID:-//github.com/rianjs/ical.net//NONSGML ical.net 4.0//EN
VERSION:2.0
BEGIN:VEVENT
DESCRIPTION:
DTSTAMP:20260423T102139Z
DTSTART;VALUE=DATE:20210422
LOCATION:Webex (детали либо в приглашении либо на сайте https://cscomarath
 on.ru)
SEQUENCE:0
SUMMARY:Интегрированные функции безопасности и унифицированных коммуникаци
 й. Лучшие практики и рекомендации по настройке.
UID:14db6c8c-996a-4856-8bcd-935310be1d93
END:VEVENT
END:VCALENDAR
