BEGIN:VCALENDAR
PRODID:-//github.com/rianjs/ical.net//NONSGML ical.net 4.0//EN
VERSION:2.0
BEGIN:VEVENT
DESCRIPTION:Вся линейка устройств Webex. От гарнитур и видеокамер высокого
  разрешения для компьютеров до персональных и групповых видеосистем преми
 ум класса. Как использовать с максимальной отдачей передовые возможности 
 устройств Webex.
DTSTAMP:20260423T090653Z
DTSTART;VALUE=DATE:20210518
LOCATION:Webex (детали либо в приглашении либо на сайте https://cscomarath
 on.ru)
SEQUENCE:0
SUMMARY:Повышение эффективности совещаний\nс устройствами Webex.\n
UID:7d1b9553-e339-4fa1-8a75-66c11042f25b
END:VEVENT
END:VCALENDAR
