BEGIN:VCALENDAR
PRODID:-//github.com/rianjs/ical.net//NONSGML ical.net 4.0//EN
VERSION:2.0
BEGIN:VEVENT
DESCRIPTION:Обзор новых версий таких продуктов как Cisco Unified Communica
 tions Manager\, Jabber\, Expressway. Новые возможности\, повышающие удобс
 тво и качество удаленной работы сотрудников\, безопасность и простота обс
 луживания\, повышение производительности решения.
DTSTAMP:20260423T090934Z
DTSTART;VALUE=DATE:20210517
LOCATION:Webex (детали либо в приглашении либо на сайте https://cscomarath
 on.ru)
SEQUENCE:0
SUMMARY:Новые возможности решения\nCollaboration System Release 14.0.\n
UID:e88053cb-f8cf-497e-957c-e596296b0336
END:VEVENT
END:VCALENDAR
