BEGIN:VCALENDAR
PRODID:-//github.com/rianjs/ical.net//NONSGML ical.net 4.0//EN
VERSION:2.0
BEGIN:VEVENT
DESCRIPTION:Интеграция облачных сервисов с решениями для совместной работы
  внутри организации. От гибридных сценариев к полноценной работе в облаке
 . Возможности миграции сервисов.
DTSTAMP:20260423T091042Z
DTSTART;VALUE=DATE:20210519
LOCATION:Webex (детали либо в приглашении либо на сайте https://cscomarath
 on.ru)
SEQUENCE:0
SUMMARY:Дорога к облакам.
UID:6352fb68-2ce1-4fc0-8f54-ad5f930c2b38
END:VEVENT
END:VCALENDAR
