BEGIN:VCALENDAR
PRODID:-//github.com/rianjs/ical.net//NONSGML ical.net 4.0//EN
VERSION:2.0
BEGIN:VEVENT
DESCRIPTION:
DTSTAMP:20260423T090414Z
DTSTART;VALUE=DATE:20210524
LOCATION:Webex (детали либо в приглашении либо на сайте https://cscomarath
 on.ru)
SEQUENCE:0
SUMMARY:Обзор процесса миграции и лучших практик при переходе с беспроводн
 ых контроллеров AireOS на Catalyst 9800
UID:18ef0499-40ca-478a-a41c-4664df3b20e5
END:VEVENT
END:VCALENDAR
