BEGIN:VCALENDAR
PRODID:-//github.com/rianjs/ical.net//NONSGML ical.net 4.0//EN
VERSION:2.0
BEGIN:VEVENT
DESCRIPTION:
DTSTAMP:20260423T091054Z
DTSTART;VALUE=DATE:20210526
LOCATION:Webex (детали либо в приглашении либо на сайте https://cscomarath
 on.ru)
SEQUENCE:0
SUMMARY:Разворачивание\, настройка и использование виртуального беспроводн
 ого контроллера Catalyst 9800
UID:c9ace2cc-b764-44e2-a692-b2cad53b1bf0
END:VEVENT
END:VCALENDAR
