BEGIN:VCALENDAR
PRODID:-//github.com/rianjs/ical.net//NONSGML ical.net 4.0//EN
VERSION:2.0
BEGIN:VEVENT
DESCRIPTION:
DTSTAMP:20260423T102408Z
DTSTART;VALUE=DATE:20210527
LOCATION:Webex (детали либо в приглашении либо на сайте https://cscomarath
 on.ru)
SEQUENCE:0
SUMMARY:Миграция на беспроводной контроллер Catalyst 9800 с использованием
  Prime Infrastructure и DNA Center
UID:bffb5c28-7418-4e09-9771-a6de466d006e
END:VEVENT
END:VCALENDAR
