BEGIN:VCALENDAR
PRODID:-//github.com/rianjs/ical.net//NONSGML ical.net 4.0//EN
VERSION:2.0
BEGIN:VEVENT
DESCRIPTION:
DTSTAMP:20260423T091043Z
DTSTART;VALUE=DATE:20210528
LOCATION:Webex (детали либо в приглашении либо на сайте https://cscomarath
 on.ru)
SEQUENCE:0
SUMMARY:Рекомендации по отладке и поиску неисправностей в сетях под управл
 ением Catalyst 9800
UID:59eb9dde-aa76-4949-b03b-63ac52febec5
END:VEVENT
END:VCALENDAR
