BEGIN:VCALENDAR
PRODID:-//github.com/rianjs/ical.net//NONSGML ical.net 4.0//EN
VERSION:2.0
BEGIN:VEVENT
DESCRIPTION:
DTSTAMP:20260423T102427Z
DTSTART;VALUE=DATE:20210602
LOCATION:Webex (детали либо в приглашении либо на сайте https://cscomarath
 on.ru)
SEQUENCE:0
SUMMARY:Анонс новых outdoor решений Cisco\, поддерживающих стандарт Wi-Fi 
 6.
UID:cb9de89e-ae40-46f9-95f5-9581f7346abe
END:VEVENT
END:VCALENDAR
